BEGIN:VCALENDAR
VERSION:2.0
PRODID:-//Hampton Golf Club - ECPv6.15.20//NONSGML v1.0//EN
CALSCALE:GREGORIAN
METHOD:PUBLISH
X-ORIGINAL-URL:http://www.hamptongolf.ca
X-WR-CALDESC:Events for Hampton Golf Club
REFRESH-INTERVAL;VALUE=DURATION:PT1H
X-Robots-Tag:noindex
X-PUBLISHED-TTL:PT1H
BEGIN:VTIMEZONE
TZID:UTC
BEGIN:STANDARD
TZOFFSETFROM:+0000
TZOFFSETTO:+0000
TZNAME:UTC
DTSTART:20250101T000000
END:STANDARD
END:VTIMEZONE
BEGIN:VEVENT
DTSTART;VALUE=DATE:20260518
DTEND;VALUE=DATE:20260519
DTSTAMP:20260425T104856
CREATED:20260208T160248Z
LAST-MODIFIED:20260208T160248Z
UID:10002973-1779062400-1779148799@www.hamptongolf.ca
SUMMARY:Holiday
DESCRIPTION:
URL:http://www.hamptongolf.ca/event/holiday-6/
CATEGORIES:Holidays
END:VEVENT
BEGIN:VEVENT
DTSTART;VALUE=DATE:20260701
DTEND;VALUE=DATE:20260702
DTSTAMP:20260425T104856
CREATED:20260208T160035Z
LAST-MODIFIED:20260208T160035Z
UID:10002972-1782864000-1782950399@www.hamptongolf.ca
SUMMARY:Holiday
DESCRIPTION:
URL:http://www.hamptongolf.ca/event/holiday-5/
CATEGORIES:Holidays
END:VEVENT
BEGIN:VEVENT
DTSTART;VALUE=DATE:20260803
DTEND;VALUE=DATE:20260804
DTSTAMP:20260425T104856
CREATED:20260208T192251Z
LAST-MODIFIED:20260208T192251Z
UID:10003363-1785715200-1785801599@www.hamptongolf.ca
SUMMARY:Holiday
DESCRIPTION:
URL:http://www.hamptongolf.ca/event/holiday-7/
CATEGORIES:Holidays
END:VEVENT
BEGIN:VEVENT
DTSTART;VALUE=DATE:20260907
DTEND;VALUE=DATE:20260908
DTSTAMP:20260425T104856
CREATED:20260208T202633Z
LAST-MODIFIED:20260208T202633Z
UID:10003378-1788739200-1788825599@www.hamptongolf.ca
SUMMARY:Holiday
DESCRIPTION:
URL:http://www.hamptongolf.ca/event/holiday-8/
CATEGORIES:Holidays
END:VEVENT
END:VCALENDAR