BEGIN:VCALENDAR
VERSION:2.0
PRODID:-//Hampton Golf Club - ECPv6.15.20//NONSGML v1.0//EN
CALSCALE:GREGORIAN
METHOD:PUBLISH
X-WR-CALNAME:Hampton Golf Club
X-ORIGINAL-URL:http://www.hamptongolf.ca
X-WR-CALDESC:Events for Hampton Golf Club
REFRESH-INTERVAL;VALUE=DURATION:PT1H
X-Robots-Tag:noindex
X-PUBLISHED-TTL:PT1H
BEGIN:VTIMEZONE
TZID:UTC
BEGIN:STANDARD
TZOFFSETFROM:+0000
TZOFFSETTO:+0000
TZNAME:UTC
DTSTART:20240101T000000
END:STANDARD
END:VTIMEZONE
BEGIN:VEVENT
DTSTART;TZID=UTC:20250905T170000
DTEND;TZID=UTC:20250905T170000
DTSTAMP:20260425T160834
CREATED:20250506T153156Z
LAST-MODIFIED:20250809T135038Z
UID:10002570-1757091600-1757091600@www.hamptongolf.ca
SUMMARY:9 & Dine
DESCRIPTION:
URL:http://www.hamptongolf.ca/event/9-dine-5/
CATEGORIES:Internal Tournaments
END:VEVENT
BEGIN:VEVENT
DTSTART;TZID=UTC:20250906T090000
DTEND;TZID=UTC:20250906T140000
DTSTAMP:20260425T160834
CREATED:20250220T155301Z
LAST-MODIFIED:20250220T155301Z
UID:10002544-1757149200-1757167200@www.hamptongolf.ca
SUMMARY:Mens Night Closing
DESCRIPTION:
URL:http://www.hamptongolf.ca/event/mens-night-closing/
CATEGORIES:Internal Tournaments
END:VEVENT
BEGIN:VEVENT
DTSTART;TZID=UTC:20250920T090000
DTEND;TZID=UTC:20250920T133000
DTSTAMP:20260425T160834
CREATED:20250425T130922Z
LAST-MODIFIED:20250425T130922Z
UID:10002554-1758358800-1758375000@www.hamptongolf.ca
SUMMARY:Ladies Triple Six
DESCRIPTION:
URL:http://www.hamptongolf.ca/event/ladies-triple-six/
CATEGORIES:Internal Tournaments
END:VEVENT
BEGIN:VEVENT
DTSTART;TZID=UTC:20250927T090000
DTEND;TZID=UTC:20250927T140000
DTSTAMP:20260425T160834
CREATED:20250220T153958Z
LAST-MODIFIED:20250220T153958Z
UID:10002542-1758963600-1758981600@www.hamptongolf.ca
SUMMARY:3 Man Scramble
DESCRIPTION:
URL:http://www.hamptongolf.ca/event/3-man-scramble-2/
CATEGORIES:Internal Tournaments
END:VEVENT
BEGIN:VEVENT
DTSTART;TZID=UTC:20250930T100000
DTEND;TZID=UTC:20250930T130000
DTSTAMP:20260425T160834
CREATED:20250220T153351Z
LAST-MODIFIED:20250903T113822Z
UID:10002536-1759226400-1759237200@www.hamptongolf.ca
SUMMARY:Seniors Closing
DESCRIPTION:
URL:http://www.hamptongolf.ca/event/par-3-challenge/
CATEGORIES:Internal Tournaments
END:VEVENT
END:VCALENDAR