BEGIN:VCALENDAR
VERSION:2.0
PRODID:-//Hampton Golf Club - ECPv6.15.20//NONSGML v1.0//EN
CALSCALE:GREGORIAN
METHOD:PUBLISH
X-ORIGINAL-URL:http://www.hamptongolf.ca
X-WR-CALDESC:Events for Hampton Golf Club
REFRESH-INTERVAL;VALUE=DURATION:PT1H
X-Robots-Tag:noindex
X-PUBLISHED-TTL:PT1H
BEGIN:VTIMEZONE
TZID:UTC
BEGIN:STANDARD
TZOFFSETFROM:+0000
TZOFFSETTO:+0000
TZNAME:UTC
DTSTART:20250101T000000
END:STANDARD
END:VTIMEZONE
BEGIN:VEVENT
DTSTART;TZID=UTC:20260523T083000
DTEND;TZID=UTC:20260523T110000
DTSTAMP:20260423T163858
CREATED:20260112T201618Z
LAST-MODIFIED:20260208T155435Z
UID:10002820-1779525000-1779534000@www.hamptongolf.ca
SUMMARY:Ladies Opening Scramble
DESCRIPTION:
URL:http://www.hamptongolf.ca/event/ladies-opening-scramble-2/
CATEGORIES:Internal Tournaments
END:VEVENT
BEGIN:VEVENT
DTSTART;TZID=UTC:20260529T170000
DTEND;TZID=UTC:20260529T190000
DTSTAMP:20260423T163858
CREATED:20260112T153406Z
LAST-MODIFIED:20260112T153406Z
UID:10002761-1780074000-1780081200@www.hamptongolf.ca
SUMMARY:9 & Dine
DESCRIPTION:
URL:http://www.hamptongolf.ca/event/9-dine-6/
CATEGORIES:Internal Tournaments
END:VEVENT
END:VCALENDAR