BEGIN:VCALENDAR
VERSION:2.0
PRODID:-//Hampton Golf Club - ECPv6.15.20//NONSGML v1.0//EN
CALSCALE:GREGORIAN
METHOD:PUBLISH
X-WR-CALNAME:Hampton Golf Club
X-ORIGINAL-URL:http://www.hamptongolf.ca
X-WR-CALDESC:Events for Hampton Golf Club
REFRESH-INTERVAL;VALUE=DURATION:PT1H
X-Robots-Tag:noindex
X-PUBLISHED-TTL:PT1H
BEGIN:VTIMEZONE
TZID:UTC
BEGIN:STANDARD
TZOFFSETFROM:+0000
TZOFFSETTO:+0000
TZNAME:UTC
DTSTART:20250101T000000
END:STANDARD
END:VTIMEZONE
BEGIN:VEVENT
DTSTART;TZID=UTC:20260809T100000
DTEND;TZID=UTC:20260809T120000
DTSTAMP:20260423T175911
CREATED:20260208T201129Z
LAST-MODIFIED:20260208T201129Z
UID:10003377-1786269600-1786276800@www.hamptongolf.ca
SUMMARY:Ladies Club Championship
DESCRIPTION:
URL:http://www.hamptongolf.ca/event/ladies-club-championship/2026-08-09/
CATEGORIES:Internal Tournaments
END:VEVENT
BEGIN:VEVENT
DTSTART;TZID=UTC:20260811T080000
DTEND;TZID=UTC:20260811T080000
DTSTAMP:20260423T175911
CREATED:20260219T234133Z
LAST-MODIFIED:20260219T234133Z
UID:10003382-1786435200-1786435200@www.hamptongolf.ca
SUMMARY:Senior Club Championship
DESCRIPTION:
URL:http://www.hamptongolf.ca/event/senior-club-championship-3/
CATEGORIES:Internal Tournaments
END:VEVENT
BEGIN:VEVENT
DTSTART;TZID=UTC:20260812T100000
DTEND;TZID=UTC:20260812T120000
DTSTAMP:20260423T175911
CREATED:20260219T234214Z
LAST-MODIFIED:20260219T234214Z
UID:10003383-1786528800-1786536000@www.hamptongolf.ca
SUMMARY:Senior Club Championship
DESCRIPTION:
URL:http://www.hamptongolf.ca/event/senior-club-championship-4/
CATEGORIES:Internal Tournaments
END:VEVENT
BEGIN:VEVENT
DTSTART;TZID=UTC:20260814T170000
DTEND;TZID=UTC:20260814T190000
DTSTAMP:20260423T175911
CREATED:20260208T201022Z
LAST-MODIFIED:20260218T213119Z
UID:10003375-1786726800-1786734000@www.hamptongolf.ca
SUMMARY:9 & Dine
DESCRIPTION:
URL:http://www.hamptongolf.ca/event/9-dine-9/
CATEGORIES:Internal Tournaments
END:VEVENT
BEGIN:VEVENT
DTSTART;TZID=UTC:20260904T170000
DTEND;TZID=UTC:20260904T190000
DTSTAMP:20260423T175911
CREATED:20260208T202903Z
LAST-MODIFIED:20260209T194808Z
UID:10003379-1788541200-1788548400@www.hamptongolf.ca
SUMMARY:9 & Dine
DESCRIPTION:
URL:http://www.hamptongolf.ca/event/9-dine-10/
CATEGORIES:Internal Tournaments
END:VEVENT
BEGIN:VEVENT
DTSTART;TZID=UTC:20260905T090000
DTEND;TZID=UTC:20260905T140000
DTSTAMP:20260423T175911
CREATED:20260219T234255Z
LAST-MODIFIED:20260219T234255Z
UID:10003384-1788598800-1788616800@www.hamptongolf.ca
SUMMARY:Mens Night Closing
DESCRIPTION:
URL:http://www.hamptongolf.ca/event/mens-night-closing-2/
CATEGORIES:Internal Tournaments
END:VEVENT
BEGIN:VEVENT
DTSTART;TZID=UTC:20260927T100000
DTEND;TZID=UTC:20260927T120000
DTSTAMP:20260423T175911
CREATED:20260414T114448Z
LAST-MODIFIED:20260414T114448Z
UID:10003468-1790503200-1790510400@www.hamptongolf.ca
SUMMARY:Ladies Closing Scramble
DESCRIPTION:
URL:http://www.hamptongolf.ca/event/ladies-closing-scramble/
CATEGORIES:Internal Tournaments
END:VEVENT
END:VCALENDAR