BEGIN:VCALENDAR
VERSION:2.0
PRODID:-//Hampton Golf Club - ECPv6.15.20//NONSGML v1.0//EN
CALSCALE:GREGORIAN
METHOD:PUBLISH
X-WR-CALNAME:Hampton Golf Club
X-ORIGINAL-URL:http://www.hamptongolf.ca
X-WR-CALDESC:Events for Hampton Golf Club
REFRESH-INTERVAL;VALUE=DURATION:PT1H
X-Robots-Tag:noindex
X-PUBLISHED-TTL:PT1H
BEGIN:VTIMEZONE
TZID:UTC
BEGIN:STANDARD
TZOFFSETFROM:+0000
TZOFFSETTO:+0000
TZNAME:UTC
DTSTART:20250101T000000
END:STANDARD
END:VTIMEZONE
BEGIN:VEVENT
DTSTART;TZID=UTC:20260526T133000
DTEND;TZID=UTC:20260526T133000
DTSTAMP:20260425T160449
CREATED:20260323T154052Z
LAST-MODIFIED:20260323T154052Z
UID:10003392-1779802200-1779802200@www.hamptongolf.ca
SUMMARY:Niners
DESCRIPTION:
URL:http://www.hamptongolf.ca/event/niners-6/2026-05-26/
CATEGORIES:Leagues
END:VEVENT
BEGIN:VEVENT
DTSTART;TZID=UTC:20260527T083000
DTEND;TZID=UTC:20260527T100000
DTSTAMP:20260425T160449
CREATED:20260208T155345Z
LAST-MODIFIED:20260208T202203Z
UID:10002863-1779870600-1779876000@www.hamptongolf.ca
SUMMARY:Ladies Morning
DESCRIPTION:
URL:http://www.hamptongolf.ca/event/ladies-morning-2/2026-05-27/
CATEGORIES:Leagues
END:VEVENT
BEGIN:VEVENT
DTSTART;TZID=UTC:20260528T150000
DTEND;TZID=UTC:20260528T190000
DTSTAMP:20260425T160449
CREATED:20260112T153127Z
LAST-MODIFIED:20260208T202303Z
UID:10002708-1779980400-1779994800@www.hamptongolf.ca
SUMMARY:Mens Night
DESCRIPTION:
URL:http://www.hamptongolf.ca/event/mens-night-3/2026-05-28/
CATEGORIES:Leagues
END:VEVENT
BEGIN:VEVENT
DTSTART;TZID=UTC:20260601T100000
DTEND;TZID=UTC:20260601T113000
DTSTAMP:20260425T160449
CREATED:20260112T200352Z
LAST-MODIFIED:20260208T201903Z
UID:10002765-1780308000-1780313400@www.hamptongolf.ca
SUMMARY:Monday Madness
DESCRIPTION:
URL:http://www.hamptongolf.ca/event/monday-madness-6/2026-06-01/
CATEGORIES:Leagues
END:VEVENT
BEGIN:VEVENT
DTSTART;TZID=UTC:20260602T080000
DTEND;TZID=UTC:20260602T133000
DTSTAMP:20260425T160449
CREATED:20260112T153028Z
LAST-MODIFIED:20260208T202052Z
UID:10002653-1780387200-1780407000@www.hamptongolf.ca
SUMMARY:Senior Mens
DESCRIPTION:
URL:http://www.hamptongolf.ca/event/senior-mens-4/2026-06-02/
CATEGORIES:Leagues
END:VEVENT
BEGIN:VEVENT
DTSTART;TZID=UTC:20260602T130000
DTEND;TZID=UTC:20260602T140000
DTSTAMP:20260425T160449
CREATED:20260208T155907Z
LAST-MODIFIED:20260208T201955Z
UID:10002915-1780405200-1780408800@www.hamptongolf.ca
SUMMARY:Niners
DESCRIPTION:
URL:http://www.hamptongolf.ca/event/niners-5/2026-06-02/
CATEGORIES:Leagues
END:VEVENT
BEGIN:VEVENT
DTSTART;TZID=UTC:20260603T083000
DTEND;TZID=UTC:20260603T100000
DTSTAMP:20260425T160449
CREATED:20260208T155345Z
LAST-MODIFIED:20260208T202203Z
UID:10002864-1780475400-1780480800@www.hamptongolf.ca
SUMMARY:Ladies Morning
DESCRIPTION:
URL:http://www.hamptongolf.ca/event/ladies-morning-2/2026-06-03/
CATEGORIES:Leagues
END:VEVENT
BEGIN:VEVENT
DTSTART;TZID=UTC:20260604T150000
DTEND;TZID=UTC:20260604T190000
DTSTAMP:20260425T160449
CREATED:20260112T153127Z
LAST-MODIFIED:20260208T202303Z
UID:10002709-1780585200-1780599600@www.hamptongolf.ca
SUMMARY:Mens Night
DESCRIPTION:
URL:http://www.hamptongolf.ca/event/mens-night-3/2026-06-04/
CATEGORIES:Leagues
END:VEVENT
BEGIN:VEVENT
DTSTART;TZID=UTC:20260608T100000
DTEND;TZID=UTC:20260608T113000
DTSTAMP:20260425T160449
CREATED:20260112T200352Z
LAST-MODIFIED:20260208T201903Z
UID:10002766-1780912800-1780918200@www.hamptongolf.ca
SUMMARY:Monday Madness
DESCRIPTION:
URL:http://www.hamptongolf.ca/event/monday-madness-6/2026-06-08/
CATEGORIES:Leagues
END:VEVENT
BEGIN:VEVENT
DTSTART;TZID=UTC:20260609T080000
DTEND;TZID=UTC:20260609T133000
DTSTAMP:20260425T160449
CREATED:20260112T153028Z
LAST-MODIFIED:20260208T202052Z
UID:10002654-1780992000-1781011800@www.hamptongolf.ca
SUMMARY:Senior Mens
DESCRIPTION:
URL:http://www.hamptongolf.ca/event/senior-mens-4/2026-06-09/
CATEGORIES:Leagues
END:VEVENT
BEGIN:VEVENT
DTSTART;TZID=UTC:20260609T130000
DTEND;TZID=UTC:20260609T140000
DTSTAMP:20260425T160449
CREATED:20260208T155907Z
LAST-MODIFIED:20260208T201955Z
UID:10002916-1781010000-1781013600@www.hamptongolf.ca
SUMMARY:Niners
DESCRIPTION:
URL:http://www.hamptongolf.ca/event/niners-5/2026-06-09/
CATEGORIES:Leagues
END:VEVENT
BEGIN:VEVENT
DTSTART;TZID=UTC:20260610T083000
DTEND;TZID=UTC:20260610T100000
DTSTAMP:20260425T160449
CREATED:20260208T155345Z
LAST-MODIFIED:20260208T202203Z
UID:10002865-1781080200-1781085600@www.hamptongolf.ca
SUMMARY:Ladies Morning
DESCRIPTION:
URL:http://www.hamptongolf.ca/event/ladies-morning-2/2026-06-10/
CATEGORIES:Leagues
END:VEVENT
BEGIN:VEVENT
DTSTART;TZID=UTC:20260611T150000
DTEND;TZID=UTC:20260611T190000
DTSTAMP:20260425T160449
CREATED:20260112T153127Z
LAST-MODIFIED:20260208T202303Z
UID:10002710-1781190000-1781204400@www.hamptongolf.ca
SUMMARY:Mens Night
DESCRIPTION:
URL:http://www.hamptongolf.ca/event/mens-night-3/2026-06-11/
CATEGORIES:Leagues
END:VEVENT
BEGIN:VEVENT
DTSTART;TZID=UTC:20260615T100000
DTEND;TZID=UTC:20260615T113000
DTSTAMP:20260425T160449
CREATED:20260112T200352Z
LAST-MODIFIED:20260208T201903Z
UID:10002767-1781517600-1781523000@www.hamptongolf.ca
SUMMARY:Monday Madness
DESCRIPTION:
URL:http://www.hamptongolf.ca/event/monday-madness-6/2026-06-15/
CATEGORIES:Leagues
END:VEVENT
BEGIN:VEVENT
DTSTART;TZID=UTC:20260616T080000
DTEND;TZID=UTC:20260616T133000
DTSTAMP:20260425T160449
CREATED:20260112T153028Z
LAST-MODIFIED:20260208T202052Z
UID:10002655-1781596800-1781616600@www.hamptongolf.ca
SUMMARY:Senior Mens
DESCRIPTION:
URL:http://www.hamptongolf.ca/event/senior-mens-4/2026-06-16/
CATEGORIES:Leagues
END:VEVENT
BEGIN:VEVENT
DTSTART;TZID=UTC:20260616T130000
DTEND;TZID=UTC:20260616T140000
DTSTAMP:20260425T160449
CREATED:20260208T155907Z
LAST-MODIFIED:20260208T201955Z
UID:10002917-1781614800-1781618400@www.hamptongolf.ca
SUMMARY:Niners
DESCRIPTION:
URL:http://www.hamptongolf.ca/event/niners-5/2026-06-16/
CATEGORIES:Leagues
END:VEVENT
BEGIN:VEVENT
DTSTART;TZID=UTC:20260617T083000
DTEND;TZID=UTC:20260617T100000
DTSTAMP:20260425T160449
CREATED:20260208T155345Z
LAST-MODIFIED:20260208T202203Z
UID:10002866-1781685000-1781690400@www.hamptongolf.ca
SUMMARY:Ladies Morning
DESCRIPTION:
URL:http://www.hamptongolf.ca/event/ladies-morning-2/2026-06-17/
CATEGORIES:Leagues
END:VEVENT
BEGIN:VEVENT
DTSTART;TZID=UTC:20260617T150000
DTEND;TZID=UTC:20260617T190000
DTSTAMP:20260425T160449
CREATED:20260208T165907Z
LAST-MODIFIED:20260208T165907Z
UID:10002711-1781708400-1781722800@www.hamptongolf.ca
SUMMARY:Mens Night
DESCRIPTION:
URL:http://www.hamptongolf.ca/event/mens-night-3-2/
CATEGORIES:Leagues
END:VEVENT
BEGIN:VEVENT
DTSTART;TZID=UTC:20260622T100000
DTEND;TZID=UTC:20260622T113000
DTSTAMP:20260425T160449
CREATED:20260112T200352Z
LAST-MODIFIED:20260208T201903Z
UID:10002768-1782122400-1782127800@www.hamptongolf.ca
SUMMARY:Monday Madness
DESCRIPTION:
URL:http://www.hamptongolf.ca/event/monday-madness-6/2026-06-22/
CATEGORIES:Leagues
END:VEVENT
BEGIN:VEVENT
DTSTART;TZID=UTC:20260623T080000
DTEND;TZID=UTC:20260623T133000
DTSTAMP:20260425T160449
CREATED:20260112T153028Z
LAST-MODIFIED:20260208T202052Z
UID:10002656-1782201600-1782221400@www.hamptongolf.ca
SUMMARY:Senior Mens
DESCRIPTION:
URL:http://www.hamptongolf.ca/event/senior-mens-4/2026-06-23/
CATEGORIES:Leagues
END:VEVENT
BEGIN:VEVENT
DTSTART;TZID=UTC:20260623T130000
DTEND;TZID=UTC:20260623T140000
DTSTAMP:20260425T160449
CREATED:20260208T155907Z
LAST-MODIFIED:20260208T201955Z
UID:10002918-1782219600-1782223200@www.hamptongolf.ca
SUMMARY:Niners
DESCRIPTION:
URL:http://www.hamptongolf.ca/event/niners-5/2026-06-23/
CATEGORIES:Leagues
END:VEVENT
BEGIN:VEVENT
DTSTART;TZID=UTC:20260624T083000
DTEND;TZID=UTC:20260624T100000
DTSTAMP:20260425T160449
CREATED:20260208T155345Z
LAST-MODIFIED:20260208T202203Z
UID:10002867-1782289800-1782295200@www.hamptongolf.ca
SUMMARY:Ladies Morning
DESCRIPTION:
URL:http://www.hamptongolf.ca/event/ladies-morning-2/2026-06-24/
CATEGORIES:Leagues
END:VEVENT
BEGIN:VEVENT
DTSTART;TZID=UTC:20260625T100000
DTEND;TZID=UTC:20260625T120000
DTSTAMP:20260425T160449
CREATED:20260208T170102Z
LAST-MODIFIED:20260208T170102Z
UID:10002976-1782381600-1782388800@www.hamptongolf.ca
SUMMARY:Junior League
DESCRIPTION:
URL:http://www.hamptongolf.ca/event/junior-league-3/2026-06-25/
CATEGORIES:Leagues
END:VEVENT
BEGIN:VEVENT
DTSTART;TZID=UTC:20260625T150000
DTEND;TZID=UTC:20260625T190000
DTSTAMP:20260425T160449
CREATED:20260112T153127Z
LAST-MODIFIED:20260208T202303Z
UID:10002712-1782399600-1782414000@www.hamptongolf.ca
SUMMARY:Mens Night
DESCRIPTION:
URL:http://www.hamptongolf.ca/event/mens-night-3/2026-06-25/
CATEGORIES:Leagues
END:VEVENT
BEGIN:VEVENT
DTSTART;TZID=UTC:20260629T100000
DTEND;TZID=UTC:20260629T113000
DTSTAMP:20260425T160449
CREATED:20260112T200352Z
LAST-MODIFIED:20260208T201903Z
UID:10002769-1782727200-1782732600@www.hamptongolf.ca
SUMMARY:Monday Madness
DESCRIPTION:
URL:http://www.hamptongolf.ca/event/monday-madness-6/2026-06-29/
CATEGORIES:Leagues
END:VEVENT
BEGIN:VEVENT
DTSTART;TZID=UTC:20260630T080000
DTEND;TZID=UTC:20260630T133000
DTSTAMP:20260425T160449
CREATED:20260112T153028Z
LAST-MODIFIED:20260208T202052Z
UID:10002657-1782806400-1782826200@www.hamptongolf.ca
SUMMARY:Senior Mens
DESCRIPTION:
URL:http://www.hamptongolf.ca/event/senior-mens-4/2026-06-30/
CATEGORIES:Leagues
END:VEVENT
BEGIN:VEVENT
DTSTART;TZID=UTC:20260630T130000
DTEND;TZID=UTC:20260630T140000
DTSTAMP:20260425T160449
CREATED:20260208T155907Z
LAST-MODIFIED:20260208T201955Z
UID:10002919-1782824400-1782828000@www.hamptongolf.ca
SUMMARY:Niners
DESCRIPTION:
URL:http://www.hamptongolf.ca/event/niners-5/2026-06-30/
CATEGORIES:Leagues
END:VEVENT
BEGIN:VEVENT
DTSTART;TZID=UTC:20260702T100000
DTEND;TZID=UTC:20260702T120000
DTSTAMP:20260425T160449
CREATED:20260208T170102Z
LAST-MODIFIED:20260208T170102Z
UID:10002977-1782986400-1782993600@www.hamptongolf.ca
SUMMARY:Junior League
DESCRIPTION:
URL:http://www.hamptongolf.ca/event/junior-league-3/2026-07-02/
CATEGORIES:Leagues
END:VEVENT
BEGIN:VEVENT
DTSTART;TZID=UTC:20260702T150000
DTEND;TZID=UTC:20260702T190000
DTSTAMP:20260425T160449
CREATED:20260112T153127Z
LAST-MODIFIED:20260208T202303Z
UID:10002713-1783004400-1783018800@www.hamptongolf.ca
SUMMARY:Mens Night
DESCRIPTION:
URL:http://www.hamptongolf.ca/event/mens-night-3/2026-07-02/
CATEGORIES:Leagues
END:VEVENT
BEGIN:VEVENT
DTSTART;TZID=UTC:20260706T100000
DTEND;TZID=UTC:20260706T113000
DTSTAMP:20260425T160449
CREATED:20260112T200352Z
LAST-MODIFIED:20260208T201903Z
UID:10002770-1783332000-1783337400@www.hamptongolf.ca
SUMMARY:Monday Madness
DESCRIPTION:
URL:http://www.hamptongolf.ca/event/monday-madness-6/2026-07-06/
CATEGORIES:Leagues
END:VEVENT
END:VCALENDAR