BEGIN:VCALENDAR
VERSION:2.0
PRODID:-//Hampton Golf Club - ECPv6.15.20//NONSGML v1.0//EN
CALSCALE:GREGORIAN
METHOD:PUBLISH
X-WR-CALNAME:Hampton Golf Club
X-ORIGINAL-URL:http://www.hamptongolf.ca
X-WR-CALDESC:Events for Hampton Golf Club
REFRESH-INTERVAL;VALUE=DURATION:PT1H
X-Robots-Tag:noindex
X-PUBLISHED-TTL:PT1H
BEGIN:VTIMEZONE
TZID:UTC
BEGIN:STANDARD
TZOFFSETFROM:+0000
TZOFFSETTO:+0000
TZNAME:UTC
DTSTART:20250101T000000
END:STANDARD
END:VTIMEZONE
BEGIN:VEVENT
DTSTART;TZID=UTC:20260721T080000
DTEND;TZID=UTC:20260721T133000
DTSTAMP:20260425T214104
CREATED:20260112T153028Z
LAST-MODIFIED:20260208T202052Z
UID:10002660-1784620800-1784640600@www.hamptongolf.ca
SUMMARY:Senior Mens
DESCRIPTION:
URL:http://www.hamptongolf.ca/event/senior-mens-4/2026-07-21/
CATEGORIES:Leagues
END:VEVENT
BEGIN:VEVENT
DTSTART;TZID=UTC:20260721T130000
DTEND;TZID=UTC:20260721T140000
DTSTAMP:20260425T214104
CREATED:20260402T123536Z
LAST-MODIFIED:20260402T123536Z
UID:10003466-1784638800-1784642400@www.hamptongolf.ca
SUMMARY:Niners
DESCRIPTION:
URL:http://www.hamptongolf.ca/event/niners-9/
CATEGORIES:Leagues
END:VEVENT
BEGIN:VEVENT
DTSTART;TZID=UTC:20260722T083000
DTEND;TZID=UTC:20260722T100000
DTSTAMP:20260425T214104
CREATED:20260208T155345Z
LAST-MODIFIED:20260208T202203Z
UID:10002871-1784709000-1784714400@www.hamptongolf.ca
SUMMARY:Ladies Morning
DESCRIPTION:
URL:http://www.hamptongolf.ca/event/ladies-morning-2/2026-07-22/
CATEGORIES:Leagues
END:VEVENT
BEGIN:VEVENT
DTSTART;TZID=UTC:20260723T100000
DTEND;TZID=UTC:20260723T120000
DTSTAMP:20260425T214104
CREATED:20260208T185014Z
LAST-MODIFIED:20260208T193008Z
UID:10003359-1784800800-1784808000@www.hamptongolf.ca
SUMMARY:Junior League
DESCRIPTION:
URL:http://www.hamptongolf.ca/event/junior-league-4/2026-07-23/
CATEGORIES:Leagues
END:VEVENT
BEGIN:VEVENT
DTSTART;TZID=UTC:20260723T150000
DTEND;TZID=UTC:20260723T190000
DTSTAMP:20260425T214104
CREATED:20260112T153127Z
LAST-MODIFIED:20260208T202303Z
UID:10002716-1784818800-1784833200@www.hamptongolf.ca
SUMMARY:Mens Night
DESCRIPTION:
URL:http://www.hamptongolf.ca/event/mens-night-3/2026-07-23/
CATEGORIES:Leagues
END:VEVENT
BEGIN:VEVENT
DTSTART;TZID=UTC:20260727T100000
DTEND;TZID=UTC:20260727T113000
DTSTAMP:20260425T214104
CREATED:20260112T200352Z
LAST-MODIFIED:20260208T201903Z
UID:10002773-1785146400-1785151800@www.hamptongolf.ca
SUMMARY:Monday Madness
DESCRIPTION:
URL:http://www.hamptongolf.ca/event/monday-madness-6/2026-07-27/
CATEGORIES:Leagues
END:VEVENT
BEGIN:VEVENT
DTSTART;TZID=UTC:20260728T080000
DTEND;TZID=UTC:20260728T133000
DTSTAMP:20260425T214104
CREATED:20260112T153028Z
LAST-MODIFIED:20260208T202052Z
UID:10002661-1785225600-1785245400@www.hamptongolf.ca
SUMMARY:Senior Mens
DESCRIPTION:
URL:http://www.hamptongolf.ca/event/senior-mens-4/2026-07-28/
CATEGORIES:Leagues
END:VEVENT
BEGIN:VEVENT
DTSTART;TZID=UTC:20260729T083000
DTEND;TZID=UTC:20260729T100000
DTSTAMP:20260425T214104
CREATED:20260208T155345Z
LAST-MODIFIED:20260208T202203Z
UID:10002872-1785313800-1785319200@www.hamptongolf.ca
SUMMARY:Ladies Morning
DESCRIPTION:
URL:http://www.hamptongolf.ca/event/ladies-morning-2/2026-07-29/
CATEGORIES:Leagues
END:VEVENT
BEGIN:VEVENT
DTSTART;TZID=UTC:20260729T130000
DTEND;TZID=UTC:20260729T140000
DTSTAMP:20260425T214104
CREATED:20260402T123736Z
LAST-MODIFIED:20260402T123736Z
UID:10003467-1785330000-1785333600@www.hamptongolf.ca
SUMMARY:Niners
DESCRIPTION:
URL:http://www.hamptongolf.ca/event/niners-11/
CATEGORIES:Leagues
END:VEVENT
BEGIN:VEVENT
DTSTART;TZID=UTC:20260730T100000
DTEND;TZID=UTC:20260730T120000
DTSTAMP:20260425T214104
CREATED:20260208T185014Z
LAST-MODIFIED:20260208T193008Z
UID:10003360-1785405600-1785412800@www.hamptongolf.ca
SUMMARY:Junior League
DESCRIPTION:
URL:http://www.hamptongolf.ca/event/junior-league-4/2026-07-30/
CATEGORIES:Leagues
END:VEVENT
BEGIN:VEVENT
DTSTART;TZID=UTC:20260730T150000
DTEND;TZID=UTC:20260730T190000
DTSTAMP:20260425T214104
CREATED:20260112T153127Z
LAST-MODIFIED:20260208T202303Z
UID:10002717-1785423600-1785438000@www.hamptongolf.ca
SUMMARY:Mens Night
DESCRIPTION:
URL:http://www.hamptongolf.ca/event/mens-night-3/2026-07-30/
CATEGORIES:Leagues
END:VEVENT
BEGIN:VEVENT
DTSTART;TZID=UTC:20260804T080000
DTEND;TZID=UTC:20260804T133000
DTSTAMP:20260425T214104
CREATED:20260112T153028Z
LAST-MODIFIED:20260208T202052Z
UID:10002662-1785830400-1785850200@www.hamptongolf.ca
SUMMARY:Senior Mens
DESCRIPTION:
URL:http://www.hamptongolf.ca/event/senior-mens-4/2026-08-04/
CATEGORIES:Leagues
END:VEVENT
BEGIN:VEVENT
DTSTART;TZID=UTC:20260804T130000
DTEND;TZID=UTC:20260804T140000
DTSTAMP:20260425T214104
CREATED:20260208T155907Z
LAST-MODIFIED:20260208T201955Z
UID:10002924-1785848400-1785852000@www.hamptongolf.ca
SUMMARY:Niners
DESCRIPTION:
URL:http://www.hamptongolf.ca/event/niners-5/2026-08-04/
CATEGORIES:Leagues
END:VEVENT
BEGIN:VEVENT
DTSTART;TZID=UTC:20260805T083000
DTEND;TZID=UTC:20260805T100000
DTSTAMP:20260425T214104
CREATED:20260208T155345Z
LAST-MODIFIED:20260208T202203Z
UID:10002873-1785918600-1785924000@www.hamptongolf.ca
SUMMARY:Ladies Morning
DESCRIPTION:
URL:http://www.hamptongolf.ca/event/ladies-morning-2/2026-08-05/
CATEGORIES:Leagues
END:VEVENT
BEGIN:VEVENT
DTSTART;TZID=UTC:20260806T150000
DTEND;TZID=UTC:20260806T190000
DTSTAMP:20260425T214104
CREATED:20260112T153127Z
LAST-MODIFIED:20260208T202303Z
UID:10002718-1786028400-1786042800@www.hamptongolf.ca
SUMMARY:Mens Night
DESCRIPTION:
URL:http://www.hamptongolf.ca/event/mens-night-3/2026-08-06/
CATEGORIES:Leagues
END:VEVENT
BEGIN:VEVENT
DTSTART;TZID=UTC:20260810T100000
DTEND;TZID=UTC:20260810T113000
DTSTAMP:20260425T214104
CREATED:20260112T200352Z
LAST-MODIFIED:20260208T201903Z
UID:10002775-1786356000-1786361400@www.hamptongolf.ca
SUMMARY:Monday Madness
DESCRIPTION:
URL:http://www.hamptongolf.ca/event/monday-madness-6/2026-08-10/
CATEGORIES:Leagues
END:VEVENT
BEGIN:VEVENT
DTSTART;TZID=UTC:20260811T080000
DTEND;TZID=UTC:20260811T133000
DTSTAMP:20260425T214104
CREATED:20260112T153028Z
LAST-MODIFIED:20260208T202052Z
UID:10002663-1786435200-1786455000@www.hamptongolf.ca
SUMMARY:Senior Mens
DESCRIPTION:
URL:http://www.hamptongolf.ca/event/senior-mens-4/2026-08-11/
CATEGORIES:Leagues
END:VEVENT
BEGIN:VEVENT
DTSTART;TZID=UTC:20260811T130000
DTEND;TZID=UTC:20260811T140000
DTSTAMP:20260425T214104
CREATED:20260208T155907Z
LAST-MODIFIED:20260208T201955Z
UID:10002925-1786453200-1786456800@www.hamptongolf.ca
SUMMARY:Niners
DESCRIPTION:
URL:http://www.hamptongolf.ca/event/niners-5/2026-08-11/
CATEGORIES:Leagues
END:VEVENT
BEGIN:VEVENT
DTSTART;TZID=UTC:20260812T083000
DTEND;TZID=UTC:20260812T100000
DTSTAMP:20260425T214104
CREATED:20260208T155345Z
LAST-MODIFIED:20260208T202203Z
UID:10002874-1786523400-1786528800@www.hamptongolf.ca
SUMMARY:Ladies Morning
DESCRIPTION:
URL:http://www.hamptongolf.ca/event/ladies-morning-2/2026-08-12/
CATEGORIES:Leagues
END:VEVENT
BEGIN:VEVENT
DTSTART;TZID=UTC:20260813T100000
DTEND;TZID=UTC:20260813T120000
DTSTAMP:20260425T214104
CREATED:20260208T185014Z
LAST-MODIFIED:20260208T193008Z
UID:10003369-1786615200-1786622400@www.hamptongolf.ca
SUMMARY:Junior League
DESCRIPTION:
URL:http://www.hamptongolf.ca/event/junior-league-4/2026-08-13/
CATEGORIES:Leagues
END:VEVENT
BEGIN:VEVENT
DTSTART;TZID=UTC:20260813T150000
DTEND;TZID=UTC:20260813T190000
DTSTAMP:20260425T214104
CREATED:20260112T153127Z
LAST-MODIFIED:20260208T202303Z
UID:10002719-1786633200-1786647600@www.hamptongolf.ca
SUMMARY:Mens Night
DESCRIPTION:
URL:http://www.hamptongolf.ca/event/mens-night-3/2026-08-13/
CATEGORIES:Leagues
END:VEVENT
BEGIN:VEVENT
DTSTART;TZID=UTC:20260817T100000
DTEND;TZID=UTC:20260817T113000
DTSTAMP:20260425T214104
CREATED:20260112T200352Z
LAST-MODIFIED:20260208T201903Z
UID:10002776-1786960800-1786966200@www.hamptongolf.ca
SUMMARY:Monday Madness
DESCRIPTION:
URL:http://www.hamptongolf.ca/event/monday-madness-6/2026-08-17/
CATEGORIES:Leagues
END:VEVENT
BEGIN:VEVENT
DTSTART;TZID=UTC:20260818T080000
DTEND;TZID=UTC:20260818T133000
DTSTAMP:20260425T214104
CREATED:20260112T153028Z
LAST-MODIFIED:20260208T202052Z
UID:10002664-1787040000-1787059800@www.hamptongolf.ca
SUMMARY:Senior Mens
DESCRIPTION:
URL:http://www.hamptongolf.ca/event/senior-mens-4/2026-08-18/
CATEGORIES:Leagues
END:VEVENT
BEGIN:VEVENT
DTSTART;TZID=UTC:20260818T130000
DTEND;TZID=UTC:20260818T140000
DTSTAMP:20260425T214104
CREATED:20260208T155907Z
LAST-MODIFIED:20260208T201955Z
UID:10002926-1787058000-1787061600@www.hamptongolf.ca
SUMMARY:Niners
DESCRIPTION:
URL:http://www.hamptongolf.ca/event/niners-5/2026-08-18/
CATEGORIES:Leagues
END:VEVENT
BEGIN:VEVENT
DTSTART;TZID=UTC:20260819T083000
DTEND;TZID=UTC:20260819T100000
DTSTAMP:20260425T214104
CREATED:20260208T155345Z
LAST-MODIFIED:20260208T202203Z
UID:10002875-1787128200-1787133600@www.hamptongolf.ca
SUMMARY:Ladies Morning
DESCRIPTION:
URL:http://www.hamptongolf.ca/event/ladies-morning-2/2026-08-19/
CATEGORIES:Leagues
END:VEVENT
BEGIN:VEVENT
DTSTART;TZID=UTC:20260820T100000
DTEND;TZID=UTC:20260820T120000
DTSTAMP:20260425T214104
CREATED:20260208T185014Z
LAST-MODIFIED:20260208T193008Z
UID:10003370-1787220000-1787227200@www.hamptongolf.ca
SUMMARY:Junior League
DESCRIPTION:
URL:http://www.hamptongolf.ca/event/junior-league-4/2026-08-20/
CATEGORIES:Leagues
END:VEVENT
BEGIN:VEVENT
DTSTART;TZID=UTC:20260820T150000
DTEND;TZID=UTC:20260820T190000
DTSTAMP:20260425T214104
CREATED:20260112T153127Z
LAST-MODIFIED:20260208T202303Z
UID:10002720-1787238000-1787252400@www.hamptongolf.ca
SUMMARY:Mens Night
DESCRIPTION:
URL:http://www.hamptongolf.ca/event/mens-night-3/2026-08-20/
CATEGORIES:Leagues
END:VEVENT
BEGIN:VEVENT
DTSTART;TZID=UTC:20260824T100000
DTEND;TZID=UTC:20260824T113000
DTSTAMP:20260425T214104
CREATED:20260112T200352Z
LAST-MODIFIED:20260208T201903Z
UID:10002777-1787565600-1787571000@www.hamptongolf.ca
SUMMARY:Monday Madness
DESCRIPTION:
URL:http://www.hamptongolf.ca/event/monday-madness-6/2026-08-24/
CATEGORIES:Leagues
END:VEVENT
BEGIN:VEVENT
DTSTART;TZID=UTC:20260825T080000
DTEND;TZID=UTC:20260825T133000
DTSTAMP:20260425T214104
CREATED:20260112T153028Z
LAST-MODIFIED:20260208T202052Z
UID:10002665-1787644800-1787664600@www.hamptongolf.ca
SUMMARY:Senior Mens
DESCRIPTION:
URL:http://www.hamptongolf.ca/event/senior-mens-4/2026-08-25/
CATEGORIES:Leagues
END:VEVENT
BEGIN:VEVENT
DTSTART;TZID=UTC:20260825T130000
DTEND;TZID=UTC:20260825T140000
DTSTAMP:20260425T214104
CREATED:20260208T155907Z
LAST-MODIFIED:20260208T201955Z
UID:10002927-1787662800-1787666400@www.hamptongolf.ca
SUMMARY:Niners
DESCRIPTION:
URL:http://www.hamptongolf.ca/event/niners-5/2026-08-25/
CATEGORIES:Leagues
END:VEVENT
END:VCALENDAR