BEGIN:VCALENDAR
VERSION:2.0
PRODID:-//Hampton Golf Club - ECPv6.15.20//NONSGML v1.0//EN
CALSCALE:GREGORIAN
METHOD:PUBLISH
X-ORIGINAL-URL:https://www.hamptongolf.ca
X-WR-CALDESC:Events for Hampton Golf Club
REFRESH-INTERVAL;VALUE=DURATION:PT1H
X-Robots-Tag:noindex
X-PUBLISHED-TTL:PT1H
BEGIN:VTIMEZONE
TZID:UTC
BEGIN:STANDARD
TZOFFSETFROM:+0000
TZOFFSETTO:+0000
TZNAME:UTC
DTSTART:20250101T000000
END:STANDARD
END:VTIMEZONE
BEGIN:VEVENT
DTSTART;TZID=UTC:20260517T120000
DTEND;TZID=UTC:20260517T150000
DTSTAMP:20260423T164844
CREATED:20260112T201530Z
LAST-MODIFIED:20260112T201530Z
UID:10002819-1779019200-1779030000@www.hamptongolf.ca
SUMMARY:NB Golf JGL
DESCRIPTION:
URL:https://www.hamptongolf.ca/event/nb-golf-jgl/
CATEGORIES:External Tournaments
END:VEVENT
END:VCALENDAR