BEGIN:VCALENDAR
VERSION:2.0
PRODID:-//Hampton Golf Club - ECPv6.15.20//NONSGML v1.0//EN
CALSCALE:GREGORIAN
METHOD:PUBLISH
X-ORIGINAL-URL:https://www.hamptongolf.ca
X-WR-CALDESC:Events for Hampton Golf Club
REFRESH-INTERVAL;VALUE=DURATION:PT1H
X-Robots-Tag:noindex
X-PUBLISHED-TTL:PT1H
BEGIN:VTIMEZONE
TZID:UTC
BEGIN:STANDARD
TZOFFSETFROM:+0000
TZOFFSETTO:+0000
TZNAME:UTC
DTSTART:20250101T000000
END:STANDARD
END:VTIMEZONE
BEGIN:VEVENT
DTSTART;TZID=UTC:20260703T130000
DTEND;TZID=UTC:20260703T130000
DTSTAMP:20260423T192555
CREATED:20251023T170556Z
LAST-MODIFIED:20251023T170556Z
UID:10002592-1783083600-1783083600@www.hamptongolf.ca
SUMMARY:Hampton Chamber of Commerce
DESCRIPTION:
URL:https://www.hamptongolf.ca/event/hampton-chamber-of-commerce/
CATEGORIES:External Tournaments
END:VEVENT
BEGIN:VEVENT
DTSTART;TZID=UTC:20260713T070000
DTEND;TZID=UTC:20260713T130000
DTSTAMP:20260423T192555
CREATED:20260208T183605Z
LAST-MODIFIED:20260208T183605Z
UID:10003353-1783926000-1783947600@www.hamptongolf.ca
SUMMARY:NextGen Atlantic Junior Championship
DESCRIPTION:
URL:https://www.hamptongolf.ca/event/nextgen-atlantic-junior-championship/2026-07-13/
CATEGORIES:External Tournaments
END:VEVENT
BEGIN:VEVENT
DTSTART;TZID=UTC:20260714T070000
DTEND;TZID=UTC:20260714T190000
DTSTAMP:20260423T192555
CREATED:20260208T184736Z
LAST-MODIFIED:20260208T184736Z
UID:10003354-1784012400-1784055600@www.hamptongolf.ca
SUMMARY:NextGen Atlantic Junior Championship
DESCRIPTION:
URL:https://www.hamptongolf.ca/event/nextgen-atlantic-junior-championship-2/
CATEGORIES:External Tournaments
END:VEVENT
BEGIN:VEVENT
DTSTART;TZID=UTC:20260715T070000
DTEND;TZID=UTC:20260715T190000
DTSTAMP:20260423T192555
CREATED:20260208T184831Z
LAST-MODIFIED:20260208T184831Z
UID:10003355-1784098800-1784142000@www.hamptongolf.ca
SUMMARY:NextGen Atlantic Junior Championship
DESCRIPTION:
URL:https://www.hamptongolf.ca/event/nextgen-atlantic-junior-championship-3/
CATEGORIES:External Tournaments
END:VEVENT
BEGIN:VEVENT
DTSTART;TZID=UTC:20260716T070000
DTEND;TZID=UTC:20260716T130000
DTSTAMP:20260423T192555
CREATED:20260208T183605Z
LAST-MODIFIED:20260208T183605Z
UID:10003356-1784185200-1784206800@www.hamptongolf.ca
SUMMARY:NextGen Atlantic Junior Championship
DESCRIPTION:
URL:https://www.hamptongolf.ca/event/nextgen-atlantic-junior-championship/2026-07-16/
CATEGORIES:External Tournaments
END:VEVENT
END:VCALENDAR