BEGIN:VCALENDAR
VERSION:2.0
PRODID:-//Hampton Golf Club - ECPv6.15.20//NONSGML v1.0//EN
CALSCALE:GREGORIAN
METHOD:PUBLISH
X-ORIGINAL-URL:https://www.hamptongolf.ca
X-WR-CALDESC:Events for Hampton Golf Club
REFRESH-INTERVAL;VALUE=DURATION:PT1H
X-Robots-Tag:noindex
X-PUBLISHED-TTL:PT1H
BEGIN:VTIMEZONE
TZID:UTC
BEGIN:STANDARD
TZOFFSETFROM:+0000
TZOFFSETTO:+0000
TZNAME:UTC
DTSTART:20240101T000000
END:STANDARD
END:VTIMEZONE
BEGIN:VEVENT
DTSTART;TZID=UTC:20251013T100000
DTEND;TZID=UTC:20251013T120000
DTSTAMP:20260423T181535
CREATED:20250520T141751Z
LAST-MODIFIED:20250520T141751Z
UID:10002575-1760349600-1760356800@www.hamptongolf.ca
SUMMARY:NB High School Provincials
DESCRIPTION:
URL:https://www.hamptongolf.ca/event/nb-high-school-provincials/
CATEGORIES:External Tournaments
END:VEVENT
BEGIN:VEVENT
DTSTART;TZID=UTC:20250918T100000
DTEND;TZID=UTC:20250918T100000
DTSTAMP:20260423T181535
CREATED:20250829T102617Z
LAST-MODIFIED:20250829T102617Z
UID:10002588-1758189600-1758189600@www.hamptongolf.ca
SUMMARY:Irving Papermakers
DESCRIPTION:
URL:https://www.hamptongolf.ca/event/irving-papermakers/
CATEGORIES:External Tournaments
END:VEVENT
BEGIN:VEVENT
DTSTART;TZID=UTC:20250913T133000
DTEND;TZID=UTC:20250913T190000
DTSTAMP:20260423T181535
CREATED:20250112T214516Z
LAST-MODIFIED:20250809T144911Z
UID:10002032-1757770200-1757790000@www.hamptongolf.ca
SUMMARY:Jamie Davis Memorial
DESCRIPTION:
URL:https://www.hamptongolf.ca/event/jamie-davis-memorial-2/
CATEGORIES:External Tournaments
END:VEVENT
BEGIN:VEVENT
DTSTART;TZID=UTC:20250912T170000
DTEND;TZID=UTC:20250912T170000
DTSTAMP:20260423T181535
CREATED:20250604T132511Z
LAST-MODIFIED:20250604T132511Z
UID:10002578-1757696400-1757696400@www.hamptongolf.ca
SUMMARY:Worksafe NB
DESCRIPTION:
URL:https://www.hamptongolf.ca/event/worksafe-nb-3/
CATEGORIES:External Tournaments
END:VEVENT
BEGIN:VEVENT
DTSTART;TZID=UTC:20250912T170000
DTEND;TZID=UTC:20250912T170000
DTSTAMP:20260423T181535
CREATED:20250604T132420Z
LAST-MODIFIED:20250604T132420Z
UID:10002577-1757696400-1757696400@www.hamptongolf.ca
SUMMARY:Worksafe NB
DESCRIPTION:
URL:https://www.hamptongolf.ca/event/worksafe-nb-2/
CATEGORIES:External Tournaments
END:VEVENT
BEGIN:VEVENT
DTSTART;TZID=UTC:20250910T103000
DTEND;TZID=UTC:20250910T103000
DTSTAMP:20260423T181535
CREATED:20250910T135741Z
LAST-MODIFIED:20250910T135741Z
UID:10002591-1757500200-1757500200@www.hamptongolf.ca
SUMMARY:Bay Ferries
DESCRIPTION:
URL:https://www.hamptongolf.ca/event/bay-ferries/
CATEGORIES:External Tournaments
END:VEVENT
BEGIN:VEVENT
DTSTART;TZID=UTC:20250906T140000
DTEND;TZID=UTC:20250906T140000
DTSTAMP:20260423T181535
CREATED:20250806T194039Z
LAST-MODIFIED:20250806T194039Z
UID:10002584-1757167200-1757167200@www.hamptongolf.ca
SUMMARY:Colson Cove
DESCRIPTION:
URL:https://www.hamptongolf.ca/event/colson-cove/
CATEGORIES:External Tournaments
END:VEVENT
BEGIN:VEVENT
DTSTART;VALUE=DATE:20250823
DTEND;VALUE=DATE:20250825
DTSTAMP:20260423T181535
CREATED:20250218T193848Z
LAST-MODIFIED:20250218T193848Z
UID:10002519-1755907200-1756079999@www.hamptongolf.ca
SUMMARY:PGA Atlantic Team Championship
DESCRIPTION:
URL:https://www.hamptongolf.ca/event/pga-atlantic-team-championship-2/
CATEGORIES:External Tournaments
END:VEVENT
BEGIN:VEVENT
DTSTART;TZID=UTC:20250726T133000
DTEND;TZID=UTC:20250726T133000
DTSTAMP:20260423T181535
CREATED:20250505T160632Z
LAST-MODIFIED:20250505T160632Z
UID:10002559-1753536600-1753536600@www.hamptongolf.ca
SUMMARY:Gentle Path
DESCRIPTION:
URL:https://www.hamptongolf.ca/event/gentle-path/
CATEGORIES:External Tournaments
END:VEVENT
BEGIN:VEVENT
DTSTART;VALUE=DATE:20250718
DTEND;VALUE=DATE:20250721
DTSTAMP:20260423T181535
CREATED:20240805T122703Z
LAST-MODIFIED:20241008T165336Z
UID:10002025-1752796800-1753055999@www.hamptongolf.ca
SUMMARY:NB Mid-Amateur Championship
DESCRIPTION:
URL:https://www.hamptongolf.ca/event/nb-mid-amateur-championship/
CATEGORIES:External Tournaments
END:VEVENT
BEGIN:VEVENT
DTSTART;TZID=UTC:20250704T130000
DTEND;TZID=UTC:20250704T130000
DTSTAMP:20260423T181535
CREATED:20240620T114211Z
LAST-MODIFIED:20240620T114211Z
UID:10002016-1751634000-1751634000@www.hamptongolf.ca
SUMMARY:Hampton Chamber of Commerce
DESCRIPTION:
URL:https://www.hamptongolf.ca/event/hampton-chamber-of-commerce-2/
CATEGORIES:External Tournaments
END:VEVENT
BEGIN:VEVENT
DTSTART;TZID=UTC:20250629T110000
DTEND;TZID=UTC:20250629T120000
DTSTAMP:20260423T181535
CREATED:20250423T175446Z
LAST-MODIFIED:20250423T175446Z
UID:10002552-1751194800-1751198400@www.hamptongolf.ca
SUMMARY:Wastewater Open
DESCRIPTION:
URL:https://www.hamptongolf.ca/event/wastewater-open/
CATEGORIES:External Tournaments
END:VEVENT
BEGIN:VEVENT
DTSTART;TZID=UTC:20250620T133000
DTEND;TZID=UTC:20250620T133000
DTSTAMP:20260423T181535
CREATED:20240625T130110Z
LAST-MODIFIED:20250206T143131Z
UID:10002019-1750426200-1750426200@www.hamptongolf.ca
SUMMARY:Heart & Stroke
DESCRIPTION:
URL:https://www.hamptongolf.ca/event/heart-stroke-2/
CATEGORIES:External Tournaments
END:VEVENT
BEGIN:VEVENT
DTSTART;TZID=UTC:20250619T133000
DTEND;TZID=UTC:20250619T133000
DTSTAMP:20260423T181535
CREATED:20240729T162009Z
LAST-MODIFIED:20240729T162057Z
UID:10002024-1750339800-1750339800@www.hamptongolf.ca
SUMMARY:Construction NB
DESCRIPTION:
URL:https://www.hamptongolf.ca/event/construction-nb/
CATEGORIES:External Tournaments
END:VEVENT
BEGIN:VEVENT
DTSTART;TZID=UTC:20250617T130000
DTEND;TZID=UTC:20250617T190000
DTSTAMP:20260423T181535
CREATED:20250206T153046Z
LAST-MODIFIED:20250217T203824Z
UID:10002443-1750165200-1750186800@www.hamptongolf.ca
SUMMARY:Womens Golf Day
DESCRIPTION:
URL:https://www.hamptongolf.ca/event/womens-golf-day/
CATEGORIES:External Tournaments
END:VEVENT
BEGIN:VEVENT
DTSTART;TZID=UTC:20250614T130000
DTEND;TZID=UTC:20250614T180000
DTSTAMP:20260423T181535
CREATED:20250409T120331Z
LAST-MODIFIED:20250409T120423Z
UID:10002549-1749906000-1749924000@www.hamptongolf.ca
SUMMARY:Professional Engineers of NB
DESCRIPTION:
URL:https://www.hamptongolf.ca/event/professional-engineers-of-nb/
CATEGORIES:External Tournaments
END:VEVENT
BEGIN:VEVENT
DTSTART;TZID=UTC:20250606T130000
DTEND;TZID=UTC:20250606T180000
DTSTAMP:20260423T181535
CREATED:20250505T154529Z
LAST-MODIFIED:20250505T160726Z
UID:10002558-1749214800-1749232800@www.hamptongolf.ca
SUMMARY:Keller Williams
DESCRIPTION:
URL:https://www.hamptongolf.ca/event/keller-williams/
CATEGORIES:External Tournaments
END:VEVENT
BEGIN:VEVENT
DTSTART;TZID=UTC:20250531T130000
DTEND;TZID=UTC:20250531T150000
DTSTAMP:20260423T181535
CREATED:20250416T135739Z
LAST-MODIFIED:20250416T135739Z
UID:10002550-1748696400-1748703600@www.hamptongolf.ca
SUMMARY:Bell Aliant
DESCRIPTION:Modfied Shotgun
URL:https://www.hamptongolf.ca/event/bell-aliant-2/
CATEGORIES:External Tournaments
END:VEVENT
BEGIN:VEVENT
DTSTART;TZID=UTC:20250524T133000
DTEND;TZID=UTC:20250524T183000
DTSTAMP:20260423T181535
CREATED:20241030T174701Z
LAST-MODIFIED:20241030T174701Z
UID:10002030-1748093400-1748111400@www.hamptongolf.ca
SUMMARY:Dreamland
DESCRIPTION:
URL:https://www.hamptongolf.ca/event/dreamland/
CATEGORIES:External Tournaments
END:VEVENT
BEGIN:VEVENT
DTSTART;TZID=UTC:20250518T120000
DTEND;TZID=UTC:20250518T150000
DTSTAMP:20260423T181535
CREATED:20250217T200630Z
LAST-MODIFIED:20250217T200641Z
UID:10002481-1747569600-1747580400@www.hamptongolf.ca
SUMMARY:JGL NB Golf
DESCRIPTION:
URL:https://www.hamptongolf.ca/event/jgl-nb-golf/
CATEGORIES:External Tournaments
END:VEVENT
BEGIN:VEVENT
DTSTART;TZID=UTC:20250517T130000
DTEND;TZID=UTC:20250517T140000
DTSTAMP:20260423T181535
CREATED:20250217T200721Z
LAST-MODIFIED:20250217T200721Z
UID:10002482-1747486800-1747490400@www.hamptongolf.ca
SUMMARY:Canada Games Qualifier
DESCRIPTION:
URL:https://www.hamptongolf.ca/event/canada-games-qualifier/
CATEGORIES:External Tournaments
END:VEVENT
END:VCALENDAR