BEGIN:VCALENDAR
VERSION:2.0
PRODID:-//Hampton Golf Club - ECPv6.15.20//NONSGML v1.0//EN
CALSCALE:GREGORIAN
METHOD:PUBLISH
X-WR-CALNAME:Hampton Golf Club
X-ORIGINAL-URL:https://www.hamptongolf.ca
X-WR-CALDESC:Events for Hampton Golf Club
REFRESH-INTERVAL;VALUE=DURATION:PT1H
X-Robots-Tag:noindex
X-PUBLISHED-TTL:PT1H
BEGIN:VTIMEZONE
TZID:UTC
BEGIN:STANDARD
TZOFFSETFROM:+0000
TZOFFSETTO:+0000
TZNAME:UTC
DTSTART:20240101T000000
END:STANDARD
END:VTIMEZONE
BEGIN:VEVENT
DTSTART;TZID=UTC:20250807T113000
DTEND;TZID=UTC:20250807T130000
DTSTAMP:20260425T140841
CREATED:20250321T133039Z
LAST-MODIFIED:20250321T133302Z
UID:10002545-1754566200-1754571600@www.hamptongolf.ca
SUMMARY:Hampton Consolidated Class of 75
DESCRIPTION:50 People
URL:https://www.hamptongolf.ca/event/hampton-consolidated-class-of-75/
CATEGORIES:F&B
END:VEVENT
BEGIN:VEVENT
DTSTART;TZID=UTC:20250624T080000
DTEND;TZID=UTC:20250624T100000
DTSTAMP:20260425T140841
CREATED:20250206T142846Z
LAST-MODIFIED:20250206T161448Z
UID:10002070-1750752000-1750759200@www.hamptongolf.ca
SUMMARY:Hampton Education Center
DESCRIPTION:
URL:https://www.hamptongolf.ca/event/hampton-education-center/
CATEGORIES:F&B
END:VEVENT
BEGIN:VEVENT
DTSTART;TZID=UTC:20250513T190000
DTEND;TZID=UTC:20250513T200000
DTSTAMP:20260425T140841
CREATED:20250424T135244Z
LAST-MODIFIED:20250424T135244Z
UID:10002553-1747162800-1747166400@www.hamptongolf.ca
SUMMARY:AGM
DESCRIPTION:
URL:https://www.hamptongolf.ca/event/agm/
CATEGORIES:F&B
END:VEVENT
END:VCALENDAR