BEGIN:VCALENDAR
VERSION:2.0
PRODID:-//Hampton Golf Club - ECPv6.15.20//NONSGML v1.0//EN
CALSCALE:GREGORIAN
METHOD:PUBLISH
X-WR-CALNAME:Hampton Golf Club
X-ORIGINAL-URL:https://www.hamptongolf.ca
X-WR-CALDESC:Events for Hampton Golf Club
REFRESH-INTERVAL;VALUE=DURATION:PT1H
X-Robots-Tag:noindex
X-PUBLISHED-TTL:PT1H
BEGIN:VTIMEZONE
TZID:UTC
BEGIN:STANDARD
TZOFFSETFROM:+0000
TZOFFSETTO:+0000
TZNAME:UTC
DTSTART:20240101T000000
END:STANDARD
END:VTIMEZONE
BEGIN:VEVENT
DTSTART;TZID=UTC:20250804T163000
DTEND;TZID=UTC:20250804T190000
DTSTAMP:20260422T084116
CREATED:20250630T145256Z
LAST-MODIFIED:20250630T145257Z
UID:10002490-1754325000-1754334000@www.hamptongolf.ca
SUMMARY:Ladies Learn to Golf - Drivers
DESCRIPTION:
URL:https://www.hamptongolf.ca/event/ladies-learn-to-golf-23-2/
CATEGORIES:Lesson Programs
END:VEVENT
BEGIN:VEVENT
DTSTART;TZID=UTC:20250805T090000
DTEND;TZID=UTC:20250805T123000
DTSTAMP:20260422T084116
CREATED:20250218T193229Z
LAST-MODIFIED:20250218T193229Z
UID:10002497-1754384400-1754397000@www.hamptongolf.ca
SUMMARY:Junior Program
DESCRIPTION:
URL:https://www.hamptongolf.ca/event/junior-program-3/2025-08-05/
CATEGORIES:Lesson Programs
END:VEVENT
BEGIN:VEVENT
DTSTART;TZID=UTC:20250811T163000
DTEND;TZID=UTC:20250811T190000
DTSTAMP:20260422T084116
CREATED:20250630T145330Z
LAST-MODIFIED:20250630T145330Z
UID:10002491-1754929800-1754938800@www.hamptongolf.ca
SUMMARY:Ladies Learn to Golf - Bunkers/Sand
DESCRIPTION:
URL:https://www.hamptongolf.ca/event/ladies-learn-to-golf-23-3/
CATEGORIES:Lesson Programs
END:VEVENT
BEGIN:VEVENT
DTSTART;TZID=UTC:20250812T090000
DTEND;TZID=UTC:20250812T123000
DTSTAMP:20260422T084116
CREATED:20250218T193229Z
LAST-MODIFIED:20250218T193229Z
UID:10002498-1754989200-1755001800@www.hamptongolf.ca
SUMMARY:Junior Program
DESCRIPTION:
URL:https://www.hamptongolf.ca/event/junior-program-3/2025-08-12/
CATEGORIES:Lesson Programs
END:VEVENT
BEGIN:VEVENT
DTSTART;TZID=UTC:20250818T163000
DTEND;TZID=UTC:20250818T190000
DTSTAMP:20260422T084116
CREATED:20250818T141337Z
LAST-MODIFIED:20250818T141338Z
UID:10002492-1755534600-1755543600@www.hamptongolf.ca
SUMMARY:Ladies Learn to Golf - Irons
DESCRIPTION:
URL:https://www.hamptongolf.ca/event/ladies-learn-to-golf-23-4/
CATEGORIES:Lesson Programs
END:VEVENT
BEGIN:VEVENT
DTSTART;TZID=UTC:20250819T090000
DTEND;TZID=UTC:20250819T123000
DTSTAMP:20260422T084116
CREATED:20250218T193229Z
LAST-MODIFIED:20250218T193229Z
UID:10002499-1755594000-1755606600@www.hamptongolf.ca
SUMMARY:Junior Program
DESCRIPTION:
URL:https://www.hamptongolf.ca/event/junior-program-3/2025-08-19/
CATEGORIES:Lesson Programs
END:VEVENT
BEGIN:VEVENT
DTSTART;TZID=UTC:20250820T150000
DTEND;TZID=UTC:20250820T183000
DTSTAMP:20260422T084116
CREATED:20250506T160338Z
LAST-MODIFIED:20250506T160338Z
UID:10002572-1755702000-1755714600@www.hamptongolf.ca
SUMMARY:NB Golf New To Golf Clinic
DESCRIPTION:
URL:https://www.hamptongolf.ca/event/nb-golf-new-to-golf-clinic/2025-08-20/
CATEGORIES:Lesson Programs
END:VEVENT
BEGIN:VEVENT
DTSTART;TZID=UTC:20250825T163000
DTEND;TZID=UTC:20250825T190000
DTSTAMP:20260422T084116
CREATED:20250218T193032Z
LAST-MODIFIED:20250218T193032Z
UID:10002493-1756139400-1756148400@www.hamptongolf.ca
SUMMARY:Ladies Learn to Golf
DESCRIPTION:
URL:https://www.hamptongolf.ca/event/ladies-learn-to-golf-23/2025-08-25/
CATEGORIES:Lesson Programs
END:VEVENT
END:VCALENDAR