BEGIN:VCALENDAR
VERSION:2.0
PRODID:-//Hampton Golf Club - ECPv6.15.20//NONSGML v1.0//EN
CALSCALE:GREGORIAN
METHOD:PUBLISH
X-WR-CALNAME:Hampton Golf Club
X-ORIGINAL-URL:https://www.hamptongolf.ca
X-WR-CALDESC:Events for Hampton Golf Club
REFRESH-INTERVAL;VALUE=DURATION:PT1H
X-Robots-Tag:noindex
X-PUBLISHED-TTL:PT1H
BEGIN:VTIMEZONE
TZID:UTC
BEGIN:STANDARD
TZOFFSETFROM:+0000
TZOFFSETTO:+0000
TZNAME:UTC
DTSTART:20240101T000000
END:STANDARD
END:VTIMEZONE
BEGIN:VEVENT
DTSTART;TZID=UTC:20250917T090000
DTEND;TZID=UTC:20250917T103000
DTSTAMP:20260423T175035
CREATED:20250220T153500Z
LAST-MODIFIED:20250220T153500Z
UID:10002539-1758099600-1758105000@www.hamptongolf.ca
SUMMARY:Ladies Morning
DESCRIPTION:
URL:https://www.hamptongolf.ca/event/ladies-morning-24/2025-09-17/
CATEGORIES:Leagues
END:VEVENT
BEGIN:VEVENT
DTSTART;TZID=UTC:20250916T140000
DTEND;TZID=UTC:20250916T150000
DTSTAMP:20260423T175035
CREATED:20250220T153147Z
LAST-MODIFIED:20250220T153625Z
UID:10002534-1758031200-1758034800@www.hamptongolf.ca
SUMMARY:Niners
DESCRIPTION:
URL:https://www.hamptongolf.ca/event/niners-22/2025-09-16/
CATEGORIES:Leagues
END:VEVENT
BEGIN:VEVENT
DTSTART;TZID=UTC:20250916T090000
DTEND;TZID=UTC:20250916T140000
DTSTAMP:20260423T175035
CREATED:20250220T153103Z
LAST-MODIFIED:20250220T153103Z
UID:10002531-1758013200-1758031200@www.hamptongolf.ca
SUMMARY:Seniors Morning
DESCRIPTION:
URL:https://www.hamptongolf.ca/event/seniors-morning-3/2025-09-16/
CATEGORIES:Leagues
END:VEVENT
BEGIN:VEVENT
DTSTART;TZID=UTC:20250915T163000
DTEND;TZID=UTC:20250915T190000
DTSTAMP:20260423T175035
CREATED:20250220T153005Z
LAST-MODIFIED:20250220T153005Z
UID:10002528-1757953800-1757962800@www.hamptongolf.ca
SUMMARY:Ladies Learn to Golf
DESCRIPTION:
URL:https://www.hamptongolf.ca/event/ladies-learn-to-golf-24/2025-09-15/
CATEGORIES:Lesson Programs
END:VEVENT
BEGIN:VEVENT
DTSTART;TZID=UTC:20250915T100000
DTEND;TZID=UTC:20250915T113000
DTSTAMP:20260423T175035
CREATED:20250220T152912Z
LAST-MODIFIED:20250220T152912Z
UID:10002523-1757930400-1757935800@www.hamptongolf.ca
SUMMARY:Monday Madness
DESCRIPTION:
URL:https://www.hamptongolf.ca/event/monday-madness-21/2025-09-15/
CATEGORIES:Leagues
END:VEVENT
BEGIN:VEVENT
DTSTART;TZID=UTC:20250913T133000
DTEND;TZID=UTC:20250913T190000
DTSTAMP:20260423T175035
CREATED:20250112T214516Z
LAST-MODIFIED:20250809T144911Z
UID:10002032-1757770200-1757790000@www.hamptongolf.ca
SUMMARY:Jamie Davis Memorial
DESCRIPTION:
URL:https://www.hamptongolf.ca/event/jamie-davis-memorial-2/
CATEGORIES:External Tournaments
END:VEVENT
BEGIN:VEVENT
DTSTART;TZID=UTC:20250912T170000
DTEND;TZID=UTC:20250912T170000
DTSTAMP:20260423T175035
CREATED:20250604T132511Z
LAST-MODIFIED:20250604T132511Z
UID:10002578-1757696400-1757696400@www.hamptongolf.ca
SUMMARY:Worksafe NB
DESCRIPTION:
URL:https://www.hamptongolf.ca/event/worksafe-nb-3/
CATEGORIES:External Tournaments
END:VEVENT
BEGIN:VEVENT
DTSTART;TZID=UTC:20250912T170000
DTEND;TZID=UTC:20250912T170000
DTSTAMP:20260423T175035
CREATED:20250604T132420Z
LAST-MODIFIED:20250604T132420Z
UID:10002577-1757696400-1757696400@www.hamptongolf.ca
SUMMARY:Worksafe NB
DESCRIPTION:
URL:https://www.hamptongolf.ca/event/worksafe-nb-2/
CATEGORIES:External Tournaments
END:VEVENT
BEGIN:VEVENT
DTSTART;TZID=UTC:20250910T103000
DTEND;TZID=UTC:20250910T103000
DTSTAMP:20260423T175035
CREATED:20250910T135741Z
LAST-MODIFIED:20250910T135741Z
UID:10002591-1757500200-1757500200@www.hamptongolf.ca
SUMMARY:Bay Ferries
DESCRIPTION:
URL:https://www.hamptongolf.ca/event/bay-ferries/
CATEGORIES:External Tournaments
END:VEVENT
BEGIN:VEVENT
DTSTART;TZID=UTC:20250910T090000
DTEND;TZID=UTC:20250910T103000
DTSTAMP:20260423T175035
CREATED:20250220T153500Z
LAST-MODIFIED:20250220T153500Z
UID:10002538-1757494800-1757500200@www.hamptongolf.ca
SUMMARY:Ladies Morning
DESCRIPTION:
URL:https://www.hamptongolf.ca/event/ladies-morning-24/2025-09-10/
CATEGORIES:Leagues
END:VEVENT
BEGIN:VEVENT
DTSTART;TZID=UTC:20250909T140000
DTEND;TZID=UTC:20250909T150000
DTSTAMP:20260423T175035
CREATED:20250220T153147Z
LAST-MODIFIED:20250220T153625Z
UID:10002533-1757426400-1757430000@www.hamptongolf.ca
SUMMARY:Niners
DESCRIPTION:
URL:https://www.hamptongolf.ca/event/niners-22/2025-09-09/
CATEGORIES:Leagues
END:VEVENT
BEGIN:VEVENT
DTSTART;TZID=UTC:20250909T090000
DTEND;TZID=UTC:20250909T140000
DTSTAMP:20260423T175035
CREATED:20250220T153103Z
LAST-MODIFIED:20250220T153103Z
UID:10002530-1757408400-1757426400@www.hamptongolf.ca
SUMMARY:Seniors Morning
DESCRIPTION:
URL:https://www.hamptongolf.ca/event/seniors-morning-3/2025-09-09/
CATEGORIES:Leagues
END:VEVENT
BEGIN:VEVENT
DTSTART;TZID=UTC:20250908T163000
DTEND;TZID=UTC:20250908T190000
DTSTAMP:20260423T175035
CREATED:20250220T153005Z
LAST-MODIFIED:20250220T153005Z
UID:10002527-1757349000-1757358000@www.hamptongolf.ca
SUMMARY:Ladies Learn to Golf
DESCRIPTION:
URL:https://www.hamptongolf.ca/event/ladies-learn-to-golf-24/2025-09-08/
CATEGORIES:Lesson Programs
END:VEVENT
BEGIN:VEVENT
DTSTART;TZID=UTC:20250908T100000
DTEND;TZID=UTC:20250908T113000
DTSTAMP:20260423T175035
CREATED:20250220T152912Z
LAST-MODIFIED:20250220T152912Z
UID:10002522-1757325600-1757331000@www.hamptongolf.ca
SUMMARY:Monday Madness
DESCRIPTION:
URL:https://www.hamptongolf.ca/event/monday-madness-21/2025-09-08/
CATEGORIES:Leagues
END:VEVENT
BEGIN:VEVENT
DTSTART;TZID=UTC:20250906T140000
DTEND;TZID=UTC:20250906T140000
DTSTAMP:20260423T175035
CREATED:20250806T194039Z
LAST-MODIFIED:20250806T194039Z
UID:10002584-1757167200-1757167200@www.hamptongolf.ca
SUMMARY:Colson Cove
DESCRIPTION:
URL:https://www.hamptongolf.ca/event/colson-cove/
CATEGORIES:External Tournaments
END:VEVENT
BEGIN:VEVENT
DTSTART;TZID=UTC:20250906T090000
DTEND;TZID=UTC:20250906T140000
DTSTAMP:20260423T175035
CREATED:20250220T155301Z
LAST-MODIFIED:20250220T155301Z
UID:10002544-1757149200-1757167200@www.hamptongolf.ca
SUMMARY:Mens Night Closing
DESCRIPTION:
URL:https://www.hamptongolf.ca/event/mens-night-closing/
CATEGORIES:Internal Tournaments
END:VEVENT
BEGIN:VEVENT
DTSTART;TZID=UTC:20250905T170000
DTEND;TZID=UTC:20250905T170000
DTSTAMP:20260423T175035
CREATED:20250506T153156Z
LAST-MODIFIED:20250809T135038Z
UID:10002570-1757091600-1757091600@www.hamptongolf.ca
SUMMARY:9 & Dine
DESCRIPTION:
URL:https://www.hamptongolf.ca/event/9-dine-5/
CATEGORIES:Internal Tournaments
END:VEVENT
BEGIN:VEVENT
DTSTART;TZID=UTC:20250904T150000
DTEND;TZID=UTC:20250904T190000
DTSTAMP:20260423T175035
CREATED:20250220T153535Z
LAST-MODIFIED:20250220T153535Z
UID:10002541-1756998000-1757012400@www.hamptongolf.ca
SUMMARY:Mens Night
DESCRIPTION:
URL:https://www.hamptongolf.ca/event/mens-night-26/
CATEGORIES:Leagues
END:VEVENT
BEGIN:VEVENT
DTSTART;TZID=UTC:20250903T090000
DTEND;TZID=UTC:20250903T103000
DTSTAMP:20260423T175035
CREATED:20250220T153500Z
LAST-MODIFIED:20250220T153500Z
UID:10002537-1756890000-1756895400@www.hamptongolf.ca
SUMMARY:Ladies Morning
DESCRIPTION:
URL:https://www.hamptongolf.ca/event/ladies-morning-24/2025-09-03/
CATEGORIES:Leagues
END:VEVENT
BEGIN:VEVENT
DTSTART;TZID=UTC:20250902T140000
DTEND;TZID=UTC:20250902T150000
DTSTAMP:20260423T175035
CREATED:20250220T153147Z
LAST-MODIFIED:20250220T153625Z
UID:10002532-1756821600-1756825200@www.hamptongolf.ca
SUMMARY:Niners
DESCRIPTION:
URL:https://www.hamptongolf.ca/event/niners-22/2025-09-02/
CATEGORIES:Leagues
END:VEVENT
BEGIN:VEVENT
DTSTART;TZID=UTC:20250902T090000
DTEND;TZID=UTC:20250902T140000
DTSTAMP:20260423T175035
CREATED:20250220T153103Z
LAST-MODIFIED:20250220T153103Z
UID:10002529-1756803600-1756821600@www.hamptongolf.ca
SUMMARY:Seniors Morning
DESCRIPTION:
URL:https://www.hamptongolf.ca/event/seniors-morning-3/2025-09-02/
CATEGORIES:Leagues
END:VEVENT
BEGIN:VEVENT
DTSTART;TZID=UTC:20250901T163000
DTEND;TZID=UTC:20250901T190000
DTSTAMP:20260423T175035
CREATED:20250220T153005Z
LAST-MODIFIED:20250220T153005Z
UID:10002526-1756744200-1756753200@www.hamptongolf.ca
SUMMARY:Ladies Learn to Golf
DESCRIPTION:
URL:https://www.hamptongolf.ca/event/ladies-learn-to-golf-24/2025-09-01/
CATEGORIES:Lesson Programs
END:VEVENT
BEGIN:VEVENT
DTSTART;VALUE=DATE:20250901
DTEND;VALUE=DATE:20250902
DTSTAMP:20260423T175035
CREATED:20250218T211835Z
LAST-MODIFIED:20250218T211835Z
UID:10002520-1756684800-1756771199@www.hamptongolf.ca
SUMMARY:Holiday
DESCRIPTION:
URL:https://www.hamptongolf.ca/event/holiday-4/
CATEGORIES:Holidays
END:VEVENT
BEGIN:VEVENT
DTSTART;TZID=UTC:20250828T150000
DTEND;TZID=UTC:20250828T190000
DTSTAMP:20260423T175035
CREATED:20250218T193659Z
LAST-MODIFIED:20250218T193659Z
UID:10002515-1756393200-1756407600@www.hamptongolf.ca
SUMMARY:Mens Night
DESCRIPTION:
URL:https://www.hamptongolf.ca/event/mens-night-25/2025-08-28/
CATEGORIES:Leagues
END:VEVENT
BEGIN:VEVENT
DTSTART;TZID=UTC:20250827T100000
DTEND;TZID=UTC:20250827T100000
DTSTAMP:20260423T175035
CREATED:20250812T162333Z
LAST-MODIFIED:20250812T162333Z
UID:10002587-1756288800-1756288800@www.hamptongolf.ca
SUMMARY:Senior Club Championship
DESCRIPTION:
URL:https://www.hamptongolf.ca/event/senior-club-championship-2/
CATEGORIES:Internal Tournaments
END:VEVENT
BEGIN:VEVENT
DTSTART;TZID=UTC:20250827T083000
DTEND;TZID=UTC:20250827T100000
DTSTAMP:20260423T175035
CREATED:20250218T193533Z
LAST-MODIFIED:20250218T193533Z
UID:10002511-1756283400-1756288800@www.hamptongolf.ca
SUMMARY:Ladies Morning
DESCRIPTION:
URL:https://www.hamptongolf.ca/event/ladies-morning-23/2025-08-27/
CATEGORIES:Leagues
END:VEVENT
BEGIN:VEVENT
DTSTART;TZID=UTC:20250826T130000
DTEND;TZID=UTC:20250826T140000
DTSTAMP:20260423T175035
CREATED:20250218T193445Z
LAST-MODIFIED:20250218T193445Z
UID:10002507-1756213200-1756216800@www.hamptongolf.ca
SUMMARY:Niners
DESCRIPTION:
URL:https://www.hamptongolf.ca/event/niners-10/2025-08-26/
CATEGORIES:Leagues
END:VEVENT
BEGIN:VEVENT
DTSTART;TZID=UTC:20250826T080000
DTEND;TZID=UTC:20250826T130000
DTSTAMP:20260423T175035
CREATED:20250218T193347Z
LAST-MODIFIED:20250218T193347Z
UID:10002503-1756195200-1756213200@www.hamptongolf.ca
SUMMARY:Seniors Morning
DESCRIPTION:
URL:https://www.hamptongolf.ca/event/seniors-morning-2/2025-08-26/
CATEGORIES:Leagues
END:VEVENT
BEGIN:VEVENT
DTSTART;TZID=UTC:20250826T080000
DTEND;TZID=UTC:20250826T080000
DTSTAMP:20260423T175035
CREATED:20250812T162259Z
LAST-MODIFIED:20250812T162259Z
UID:10002586-1756195200-1756195200@www.hamptongolf.ca
SUMMARY:Senior Club Championship
DESCRIPTION:
URL:https://www.hamptongolf.ca/event/senior-club-championship/
CATEGORIES:Internal Tournaments
END:VEVENT
BEGIN:VEVENT
DTSTART;TZID=UTC:20250825T163000
DTEND;TZID=UTC:20250825T190000
DTSTAMP:20260423T175035
CREATED:20250218T193032Z
LAST-MODIFIED:20250218T193032Z
UID:10002493-1756139400-1756148400@www.hamptongolf.ca
SUMMARY:Ladies Learn to Golf
DESCRIPTION:
URL:https://www.hamptongolf.ca/event/ladies-learn-to-golf-23/2025-08-25/
CATEGORIES:Lesson Programs
END:VEVENT
END:VCALENDAR