BEGIN:VCALENDAR
VERSION:2.0
PRODID:-//Hampton Golf Club - ECPv6.15.20//NONSGML v1.0//EN
CALSCALE:GREGORIAN
METHOD:PUBLISH
X-WR-CALNAME:Hampton Golf Club
X-ORIGINAL-URL:https://www.hamptongolf.ca
X-WR-CALDESC:Events for Hampton Golf Club
REFRESH-INTERVAL;VALUE=DURATION:PT1H
X-Robots-Tag:noindex
X-PUBLISHED-TTL:PT1H
BEGIN:VTIMEZONE
TZID:UTC
BEGIN:STANDARD
TZOFFSETFROM:+0000
TZOFFSETTO:+0000
TZNAME:UTC
DTSTART:20240101T000000
END:STANDARD
END:VTIMEZONE
BEGIN:VEVENT
DTSTART;TZID=UTC:20250618T083000
DTEND;TZID=UTC:20250618T100000
DTSTAMP:20260421T084849
CREATED:20250206T142651Z
LAST-MODIFIED:20250206T142651Z
UID:10002067-1750235400-1750240800@www.hamptongolf.ca
SUMMARY:Ladies Morning
DESCRIPTION:
URL:https://www.hamptongolf.ca/event/ladies-morning-18/2025-06-18/
CATEGORIES:Leagues
END:VEVENT
BEGIN:VEVENT
DTSTART;TZID=UTC:20250618T150000
DTEND;TZID=UTC:20250618T190000
DTSTAMP:20260421T084849
CREATED:20250206T142730Z
LAST-MODIFIED:20250206T142730Z
UID:10002069-1750258800-1750273200@www.hamptongolf.ca
SUMMARY:Mens Night
DESCRIPTION:
URL:https://www.hamptongolf.ca/event/mens-night-2/
CATEGORIES:Leagues
END:VEVENT
BEGIN:VEVENT
DTSTART;TZID=UTC:20250619T133000
DTEND;TZID=UTC:20250619T133000
DTSTAMP:20260421T084849
CREATED:20240729T162009Z
LAST-MODIFIED:20240729T162057Z
UID:10002024-1750339800-1750339800@www.hamptongolf.ca
SUMMARY:Construction NB
DESCRIPTION:
URL:https://www.hamptongolf.ca/event/construction-nb/
CATEGORIES:External Tournaments
END:VEVENT
BEGIN:VEVENT
DTSTART;TZID=UTC:20250620T133000
DTEND;TZID=UTC:20250620T133000
DTSTAMP:20260421T084849
CREATED:20240625T130110Z
LAST-MODIFIED:20250206T143131Z
UID:10002019-1750426200-1750426200@www.hamptongolf.ca
SUMMARY:Heart & Stroke
DESCRIPTION:
URL:https://www.hamptongolf.ca/event/heart-stroke-2/
CATEGORIES:External Tournaments
END:VEVENT
BEGIN:VEVENT
DTSTART;TZID=UTC:20250621T090000
DTEND;TZID=UTC:20250621T120000
DTSTAMP:20260421T084849
CREATED:20250206T151438Z
LAST-MODIFIED:20250206T151438Z
UID:10002441-1750496400-1750507200@www.hamptongolf.ca
SUMMARY:RBC Scramble
DESCRIPTION:
URL:https://www.hamptongolf.ca/event/rbc-scramble/
CATEGORIES:Internal Tournaments
END:VEVENT
BEGIN:VEVENT
DTSTART;TZID=UTC:20250623T100000
DTEND;TZID=UTC:20250623T113000
DTSTAMP:20260421T084849
CREATED:20250204T154257Z
LAST-MODIFIED:20250204T154257Z
UID:10002054-1750672800-1750678200@www.hamptongolf.ca
SUMMARY:Monday Madness
DESCRIPTION:
URL:https://www.hamptongolf.ca/event/monday-madness/2025-06-23/
CATEGORIES:Leagues
END:VEVENT
BEGIN:VEVENT
DTSTART;TZID=UTC:20250623T163000
DTEND;TZID=UTC:20250623T190000
DTSTAMP:20260421T084849
CREATED:20250512T164545Z
LAST-MODIFIED:20250512T164546Z
UID:10002059-1750696200-1750705200@www.hamptongolf.ca
SUMMARY:Ladies Learn to Golf - Driver
DESCRIPTION:
URL:https://www.hamptongolf.ca/event/ladies-learn-to-golf-21-5/
CATEGORIES:Lesson Programs
END:VEVENT
BEGIN:VEVENT
DTSTART;TZID=UTC:20250624T080000
DTEND;TZID=UTC:20250624T100000
DTSTAMP:20260421T084849
CREATED:20250206T142846Z
LAST-MODIFIED:20250206T161448Z
UID:10002070-1750752000-1750759200@www.hamptongolf.ca
SUMMARY:Hampton Education Center
DESCRIPTION:
URL:https://www.hamptongolf.ca/event/hampton-education-center/
CATEGORIES:F&B
END:VEVENT
BEGIN:VEVENT
DTSTART;TZID=UTC:20250624T080000
DTEND;TZID=UTC:20250624T130000
DTSTAMP:20260421T084849
CREATED:20250204T154502Z
LAST-MODIFIED:20250204T154502Z
UID:10002064-1750752000-1750770000@www.hamptongolf.ca
SUMMARY:Senior Mens
DESCRIPTION:
URL:https://www.hamptongolf.ca/event/senior-mens-3/2025-06-24/
CATEGORIES:Leagues
END:VEVENT
BEGIN:VEVENT
DTSTART;TZID=UTC:20250624T130000
DTEND;TZID=UTC:20250624T140000
DTSTAMP:20260421T084849
CREATED:20250206T153135Z
LAST-MODIFIED:20250206T153135Z
UID:10002445-1750770000-1750773600@www.hamptongolf.ca
SUMMARY:Niners
DESCRIPTION:
URL:https://www.hamptongolf.ca/event/niners-2/2025-06-24/
CATEGORIES:Leagues
END:VEVENT
BEGIN:VEVENT
DTSTART;TZID=UTC:20250624T150000
DTEND;TZID=UTC:20250624T183000
DTSTAMP:20260421T084849
CREATED:20250506T160338Z
LAST-MODIFIED:20250506T160338Z
UID:10002571-1750777200-1750789800@www.hamptongolf.ca
SUMMARY:NB Golf New To Golf Clinic
DESCRIPTION:
URL:https://www.hamptongolf.ca/event/nb-golf-new-to-golf-clinic/2025-06-24/
CATEGORIES:Lesson Programs
END:VEVENT
BEGIN:VEVENT
DTSTART;TZID=UTC:20250624T183000
DTEND;TZID=UTC:20250624T193000
DTSTAMP:20260421T084849
CREATED:20250218T192348Z
LAST-MODIFIED:20250624T120707Z
UID:10002484-1750789800-1750793400@www.hamptongolf.ca
SUMMARY:Junior Program Meeting
DESCRIPTION:
URL:https://www.hamptongolf.ca/event/junior-program/
CATEGORIES:Lesson Programs
END:VEVENT
BEGIN:VEVENT
DTSTART;TZID=UTC:20250625T083000
DTEND;TZID=UTC:20250625T100000
DTSTAMP:20260421T084849
CREATED:20250206T142651Z
LAST-MODIFIED:20250206T142651Z
UID:10002068-1750840200-1750845600@www.hamptongolf.ca
SUMMARY:Ladies Morning
DESCRIPTION:
URL:https://www.hamptongolf.ca/event/ladies-morning-18/2025-06-25/
CATEGORIES:Leagues
END:VEVENT
BEGIN:VEVENT
DTSTART;TZID=UTC:20250626T100000
DTEND;TZID=UTC:20250626T120000
DTSTAMP:20260421T084849
CREATED:20250217T221607Z
LAST-MODIFIED:20250217T221607Z
UID:10002483-1750932000-1750939200@www.hamptongolf.ca
SUMMARY:Junior League
DESCRIPTION:
URL:https://www.hamptongolf.ca/event/junior-league-2/
CATEGORIES:Leagues
END:VEVENT
BEGIN:VEVENT
DTSTART;TZID=UTC:20250626T150000
DTEND;TZID=UTC:20250626T190000
DTSTAMP:20260421T084849
CREATED:20250206T143030Z
LAST-MODIFIED:20250206T143030Z
UID:10002073-1750950000-1750964400@www.hamptongolf.ca
SUMMARY:Mens Night
DESCRIPTION:
URL:https://www.hamptongolf.ca/event/mens-night-23/
CATEGORIES:Leagues
END:VEVENT
BEGIN:VEVENT
DTSTART;TZID=UTC:20250627T170000
DTEND;TZID=UTC:20250627T190000
DTSTAMP:20260421T084849
CREATED:20250427T140633Z
LAST-MODIFIED:20250427T140633Z
UID:10002557-1751043600-1751050800@www.hamptongolf.ca
SUMMARY:9 & Dine
DESCRIPTION:
URL:https://www.hamptongolf.ca/event/9-dine-2/
CATEGORIES:Internal Tournaments
END:VEVENT
BEGIN:VEVENT
DTSTART;TZID=UTC:20250629T110000
DTEND;TZID=UTC:20250629T120000
DTSTAMP:20260421T084849
CREATED:20250423T175446Z
LAST-MODIFIED:20250423T175446Z
UID:10002552-1751194800-1751198400@www.hamptongolf.ca
SUMMARY:Wastewater Open
DESCRIPTION:
URL:https://www.hamptongolf.ca/event/wastewater-open/
CATEGORIES:External Tournaments
END:VEVENT
BEGIN:VEVENT
DTSTART;TZID=UTC:20250630T100000
DTEND;TZID=UTC:20250630T113000
DTSTAMP:20260421T084849
CREATED:20250204T154257Z
LAST-MODIFIED:20250204T154257Z
UID:10002055-1751277600-1751283000@www.hamptongolf.ca
SUMMARY:Monday Madness
DESCRIPTION:
URL:https://www.hamptongolf.ca/event/monday-madness/2025-06-30/
CATEGORIES:Leagues
END:VEVENT
BEGIN:VEVENT
DTSTART;TZID=UTC:20250630T163000
DTEND;TZID=UTC:20250630T190000
DTSTAMP:20260421T084849
CREATED:20250630T144937Z
LAST-MODIFIED:20250630T144937Z
UID:10002060-1751301000-1751310000@www.hamptongolf.ca
SUMMARY:Ladies Learn to Golf - Irons
DESCRIPTION:
URL:https://www.hamptongolf.ca/event/ladies-learn-to-golf-21-6/
CATEGORIES:Lesson Programs
END:VEVENT
BEGIN:VEVENT
DTSTART;VALUE=DATE:20250701
DTEND;VALUE=DATE:20250702
DTSTAMP:20260421T084849
CREATED:20250206T153201Z
LAST-MODIFIED:20250206T153201Z
UID:10002446-1751328000-1751414399@www.hamptongolf.ca
SUMMARY:Holiday
DESCRIPTION:
URL:https://www.hamptongolf.ca/event/holiday-2/
CATEGORIES:Holidays
END:VEVENT
BEGIN:VEVENT
DTSTART;TZID=UTC:20250702T083000
DTEND;TZID=UTC:20250702T100000
DTSTAMP:20260421T084849
CREATED:20250206T201643Z
LAST-MODIFIED:20250206T201643Z
UID:10002468-1751445000-1751450400@www.hamptongolf.ca
SUMMARY:Ladies Morning
DESCRIPTION:
URL:https://www.hamptongolf.ca/event/ladies-morning-19/
CATEGORIES:Leagues
END:VEVENT
BEGIN:VEVENT
DTSTART;TZID=UTC:20250703T100000
DTEND;TZID=UTC:20250703T120000
DTSTAMP:20260421T084849
CREATED:20250206T202124Z
LAST-MODIFIED:20250206T202124Z
UID:10002473-1751536800-1751544000@www.hamptongolf.ca
SUMMARY:Junior League
DESCRIPTION:
URL:https://www.hamptongolf.ca/event/junior-league/2025-07-03/
CATEGORIES:Leagues
END:VEVENT
BEGIN:VEVENT
DTSTART;TZID=UTC:20250703T150000
DTEND;TZID=UTC:20250703T190000
DTSTAMP:20260421T084849
CREATED:20250206T201348Z
LAST-MODIFIED:20250206T201426Z
UID:10002463-1751554800-1751569200@www.hamptongolf.ca
SUMMARY:Mens Night
DESCRIPTION:
URL:https://www.hamptongolf.ca/event/mens-night-24/2025-07-03/
CATEGORIES:Leagues
END:VEVENT
BEGIN:VEVENT
DTSTART;TZID=UTC:20250704T130000
DTEND;TZID=UTC:20250704T130000
DTSTAMP:20260421T084849
CREATED:20240620T114211Z
LAST-MODIFIED:20240620T114211Z
UID:10002016-1751634000-1751634000@www.hamptongolf.ca
SUMMARY:Hampton Chamber of Commerce
DESCRIPTION:
URL:https://www.hamptongolf.ca/event/hampton-chamber-of-commerce-2/
CATEGORIES:External Tournaments
END:VEVENT
BEGIN:VEVENT
DTSTART;TZID=UTC:20250707T100000
DTEND;TZID=UTC:20250707T113000
DTSTAMP:20260421T084849
CREATED:20250206T195538Z
LAST-MODIFIED:20250206T195538Z
UID:10002447-1751882400-1751887800@www.hamptongolf.ca
SUMMARY:Monday Madness
DESCRIPTION:
URL:https://www.hamptongolf.ca/event/monday-madness-2/2025-07-07/
CATEGORIES:Leagues
END:VEVENT
BEGIN:VEVENT
DTSTART;TZID=UTC:20250707T163000
DTEND;TZID=UTC:20250707T190000
DTSTAMP:20260421T084849
CREATED:20250630T145011Z
LAST-MODIFIED:20250630T145011Z
UID:10002451-1751905800-1751914800@www.hamptongolf.ca
SUMMARY:Ladies Learn to Golf - Putting
DESCRIPTION:
URL:https://www.hamptongolf.ca/event/ladies-learn-to-golf-22-2/
CATEGORIES:Lesson Programs
END:VEVENT
BEGIN:VEVENT
DTSTART;TZID=UTC:20250708T080000
DTEND;TZID=UTC:20250708T130000
DTSTAMP:20260421T084849
CREATED:20250206T200742Z
LAST-MODIFIED:20250206T200742Z
UID:10002455-1751961600-1751979600@www.hamptongolf.ca
SUMMARY:Seniors Morning
DESCRIPTION:
URL:https://www.hamptongolf.ca/event/seniors-morning/2025-07-08/
CATEGORIES:Leagues
END:VEVENT
BEGIN:VEVENT
DTSTART;TZID=UTC:20250708T090000
DTEND;TZID=UTC:20250708T123000
DTSTAMP:20260421T084849
CREATED:20250218T192647Z
LAST-MODIFIED:20250218T192647Z
UID:10002485-1751965200-1751977800@www.hamptongolf.ca
SUMMARY:Junior Program
DESCRIPTION:
URL:https://www.hamptongolf.ca/event/junior-program-2/2025-07-08/
CATEGORIES:Lesson Programs
END:VEVENT
BEGIN:VEVENT
DTSTART;TZID=UTC:20250708T130000
DTEND;TZID=UTC:20250708T140000
DTSTAMP:20260421T084849
CREATED:20250206T200830Z
LAST-MODIFIED:20250206T200830Z
UID:10002459-1751979600-1751983200@www.hamptongolf.ca
SUMMARY:Niners
DESCRIPTION:
URL:https://www.hamptongolf.ca/event/niners-3/2025-07-08/
CATEGORIES:Leagues
END:VEVENT
BEGIN:VEVENT
DTSTART;TZID=UTC:20250709T130000
DTEND;TZID=UTC:20250709T180000
DTSTAMP:20260421T084849
CREATED:20250206T201816Z
LAST-MODIFIED:20250206T201816Z
UID:10002472-1752066000-1752084000@www.hamptongolf.ca
SUMMARY:Joan Mott Invitational
DESCRIPTION:
URL:https://www.hamptongolf.ca/event/joan-mott-invitational-2/
CATEGORIES:Internal Tournaments
END:VEVENT
END:VCALENDAR